BEGIN:VCALENDAR
VERSION:2.0
PRODID:-//U.S. Masters Diving - ECPv4.6.16//NONSGML v1.0//EN
CALSCALE:GREGORIAN
METHOD:PUBLISH
X-WR-CALNAME:U.S. Masters Diving
X-ORIGINAL-URL:http://mastersdiving.org
X-WR-CALDESC:Events for U.S. Masters Diving
BEGIN:VEVENT
DTSTART;VALUE=DATE:20240223
DTEND;VALUE=DATE:20240304
DTSTAMP:20260421T113238
CREATED:20230824T205505Z
LAST-MODIFIED:20230824T205505Z
UID:51882-1708646400-1709510399@mastersdiving.org
SUMMARY:World Aquatics Masters Championships – Doha 2024
DESCRIPTION:
URL:http://mastersdiving.org/event/world-aquatics-masters-championships-doha-2024/
END:VEVENT
END:VCALENDAR