BEGIN:VCALENDAR
VERSION:2.0
PRODID:-//U.S. Masters Diving - ECPv4.6.16//NONSGML v1.0//EN
CALSCALE:GREGORIAN
METHOD:PUBLISH
X-WR-CALNAME:U.S. Masters Diving
X-ORIGINAL-URL:http://mastersdiving.org
X-WR-CALDESC:Events for U.S. Masters Diving
BEGIN:VEVENT
DTSTART;VALUE=DATE:20200619
DTEND;VALUE=DATE:20200629
DTSTAMP:20260421T125127
CREATED:20190901T005402Z
LAST-MODIFIED:20200410T223125Z
UID:51213-1592524800-1593388799@mastersdiving.org
SUMMARY:USA Masters Games (Postponed due to Covid-19)
DESCRIPTION:Read full statement here:  https://www.usamastersgames.com/blog/2020/4/2020-usa-masters-games-postponed \n
URL:http://mastersdiving.org/event/usa-masters-games/
LOCATION:Grand Rapids\, MI\, United States
END:VEVENT
END:VCALENDAR