BEGIN:VCALENDAR
VERSION:2.0
PRODID:-//U.S. Masters Diving - ECPv4.6.16//NONSGML v1.0//EN
CALSCALE:GREGORIAN
METHOD:PUBLISH
X-WR-CALNAME:U.S. Masters Diving
X-ORIGINAL-URL:http://mastersdiving.org
X-WR-CALDESC:Events for U.S. Masters Diving
BEGIN:VEVENT
DTSTART;VALUE=DATE:20200423
DTEND;VALUE=DATE:20200427
DTSTAMP:20260421T141741
CREATED:20190513T231445Z
LAST-MODIFIED:20200320T020621Z
UID:51146-1587600000-1587945599@mastersdiving.org
SUMMARY:USA Masters Diving Spring National Championships - (CANCELLED)
DESCRIPTION:Meet is cancelled due to COVID-19 concerns\, Stay well and keep fit! \n
URL:http://mastersdiving.org/event/usa-masters-diving-spring-national-championships/
LOCATION:Columbus\, OH\, United States
END:VEVENT
END:VCALENDAR