BEGIN:VCALENDAR
VERSION:2.0
PRODID:-//U.S. Masters Diving - ECPv4.6.16//NONSGML v1.0//EN
CALSCALE:GREGORIAN
METHOD:PUBLISH
X-WR-CALNAME:U.S. Masters Diving
X-ORIGINAL-URL:http://mastersdiving.org
X-WR-CALDESC:Events for U.S. Masters Diving
BEGIN:VEVENT
DTSTART;VALUE=DATE:20180923
DTEND;VALUE=DATE:20181001
DTSTAMP:20260421T170244
CREATED:20171017T033313Z
LAST-MODIFIED:20171017T033718Z
UID:38981-1537660800-1538351999@mastersdiving.org
SUMMARY:USA Diving Convention
DESCRIPTION:
URL:http://mastersdiving.org/event/usa-diving-convention/
LOCATION:Jacksonville\, FL\, United States
END:VEVENT
END:VCALENDAR