BEGIN:VCALENDAR
VERSION:2.0
PRODID:-//U.S. Masters Diving - ECPv4.6.16//NONSGML v1.0//EN
CALSCALE:GREGORIAN
METHOD:PUBLISH
X-WR-CALNAME:U.S. Masters Diving
X-ORIGINAL-URL:http://mastersdiving.org
X-WR-CALDESC:Events for U.S. Masters Diving
BEGIN:VEVENT
DTSTART;VALUE=DATE:20180824
DTEND;VALUE=DATE:20180827
DTSTAMP:20260421T182354
CREATED:20171122T202449Z
LAST-MODIFIED:20180618T002432Z
UID:46358-1535068800-1535327999@mastersdiving.org
SUMMARY:Summer 2018 Masters Nationals
DESCRIPTION:Here is the flier for the meet 2018 Summer NationalsMASTERS DIVING \n
URL:http://mastersdiving.org/event/summer-2018-masters-nationals/
LOCATION:901 West New York Street\, Indianapolis\, IN\, 46202\, United States
ORGANIZER;CN="Gerry%20Dunn":MAILTO:gerry@mypotomac.com
END:VEVENT
END:VCALENDAR