BEGIN:VCALENDAR
VERSION:2.0
PRODID:-//U.S. Masters Diving - ECPv4.6.16//NONSGML v1.0//EN
CALSCALE:GREGORIAN
METHOD:PUBLISH
X-WR-CALNAME:U.S. Masters Diving
X-ORIGINAL-URL:http://mastersdiving.org
X-WR-CALDESC:Events for U.S. Masters Diving
BEGIN:VEVENT
DTSTART;VALUE=DATE:20191214
DTEND;VALUE=DATE:20191216
DTSTAMP:20260421T141002
CREATED:20190513T231304Z
LAST-MODIFIED:20190513T231304Z
UID:51144-1576281600-1576454399@mastersdiving.org
SUMMARY:Russian Masters Championships
DESCRIPTION:
URL:http://mastersdiving.org/event/russian-masters-championships/
END:VEVENT
END:VCALENDAR