BEGIN:VCALENDAR
VERSION:2.0
PRODID:-//U.S. Masters Diving - ECPv4.6.16//NONSGML v1.0//EN
CALSCALE:GREGORIAN
METHOD:PUBLISH
X-WR-CALNAME:U.S. Masters Diving
X-ORIGINAL-URL:http://mastersdiving.org
X-WR-CALDESC:Events for U.S. Masters Diving
BEGIN:VEVENT
DTSTART;VALUE=DATE:20180406
DTEND;VALUE=DATE:20180409
DTSTAMP:20260421T182034
CREATED:20180112T164830Z
LAST-MODIFIED:20180112T164830Z
UID:46406-1522972800-1523231999@mastersdiving.org
SUMMARY:Montgomery Dive Club AAU Invite
DESCRIPTION:
URL:http://mastersdiving.org/event/montgomery-dive-club-aau-invite/
LOCATION:Rockville\, MD
END:VEVENT
END:VCALENDAR