BEGIN:VCALENDAR
VERSION:2.0
PRODID:-//U.S. Masters Diving - ECPv4.6.16//NONSGML v1.0//EN
CALSCALE:GREGORIAN
METHOD:PUBLISH
X-WR-CALNAME:U.S. Masters Diving
X-ORIGINAL-URL:http://mastersdiving.org
X-WR-CALDESC:Events for U.S. Masters Diving
BEGIN:VEVENT
DTSTART;VALUE=DATE:20200320
DTEND;VALUE=DATE:20200326
DTSTAMP:20260421T140942
CREATED:20190901T005106Z
LAST-MODIFIED:20190901T005106Z
UID:51210-1584662400-1585180799@mastersdiving.org
SUMMARY:IGLA Melbourne 220
DESCRIPTION:
URL:http://mastersdiving.org/event/igla-melbourne-220/
LOCATION:Melbourne\, Australia
END:VEVENT
END:VCALENDAR