BEGIN:VCALENDAR
VERSION:2.0
PRODID:-//U.S. Masters Diving - ECPv4.6.16//NONSGML v1.0//EN
CALSCALE:GREGORIAN
METHOD:PUBLISH
X-WR-CALNAME:U.S. Masters Diving
X-ORIGINAL-URL:http://mastersdiving.org
X-WR-CALDESC:Events for U.S. Masters Diving
BEGIN:VEVENT
DTSTART;VALUE=DATE:20190630
DTEND;VALUE=DATE:20190701
DTSTAMP:20260421T141249
CREATED:20190514T000725Z
LAST-MODIFIED:20190514T000725Z
UID:51161-1561852800-1561939199@mastersdiving.org
SUMMARY:Hidden Hollow’s 32nd Annual Springboard and Platform Diving Invitational
DESCRIPTION:
URL:http://mastersdiving.org/event/hidden-hollows-32nd-annual-springboard-and-platform-diving-invitational/
END:VEVENT
END:VCALENDAR