BEGIN:VCALENDAR
VERSION:2.0
PRODID:-//U.S. Masters Diving - ECPv4.6.16//NONSGML v1.0//EN
CALSCALE:GREGORIAN
METHOD:PUBLISH
X-WR-CALNAME:U.S. Masters Diving
X-ORIGINAL-URL:http://mastersdiving.org
X-WR-CALDESC:Events for U.S. Masters Diving
BEGIN:VEVENT
DTSTART;VALUE=DATE:20180624
DTEND;VALUE=DATE:20180625
DTSTAMP:20260421T170433
CREATED:20180112T164948Z
LAST-MODIFIED:20180112T164948Z
UID:46409-1529798400-1529884799@mastersdiving.org
SUMMARY:Hidden Hollow Diving Invitational
DESCRIPTION:
URL:http://mastersdiving.org/event/hidden-hollow-diving-invitational/
END:VEVENT
END:VCALENDAR