BEGIN:VCALENDAR
VERSION:2.0
PRODID:-//U.S. Masters Diving - ECPv4.6.16//NONSGML v1.0//EN
CALSCALE:GREGORIAN
METHOD:PUBLISH
X-WR-CALNAME:U.S. Masters Diving
X-ORIGINAL-URL:http://mastersdiving.org
X-WR-CALDESC:Events for U.S. Masters Diving
BEGIN:VEVENT
DTSTART;VALUE=DATE:20200523
DTEND;VALUE=DATE:20200601
DTSTAMP:20260421T141104
CREATED:20190513T231643Z
LAST-MODIFIED:20190513T231643Z
UID:51149-1590192000-1590969599@mastersdiving.org
SUMMARY:European Masters Championships
DESCRIPTION:
URL:http://mastersdiving.org/event/european-masters-championships/
LOCATION:Budapest\, Hungary
END:VEVENT
END:VCALENDAR