BEGIN:VCALENDAR
VERSION:2.0
PRODID:-//U.S. Masters Diving - ECPv4.6.16//NONSGML v1.0//EN
CALSCALE:GREGORIAN
METHOD:PUBLISH
X-WR-CALNAME:U.S. Masters Diving
X-ORIGINAL-URL:http://mastersdiving.org
X-WR-CALDESC:Events for U.S. Masters Diving
BEGIN:VEVENT
DTSTART;VALUE=DATE:20220808
DTEND;VALUE=DATE:20220811
DTSTAMP:20260421T140939
CREATED:20220614T181252Z
LAST-MODIFIED:20220614T181252Z
UID:51725-1659916800-1660175999@mastersdiving.org
SUMMARY:DIVE LAB'S Masters Diving Training Clinic
DESCRIPTION:\n\n\n\nJOIN US IN NOVATO\, CA before the 2022 Summer National Championships to get in some extra training with renowned elite athletes and coaches Miranda Maas and Dennis Bondarenko. The Dive Lab team has offered to open up the pool to Masters Diving athletes for both exclusive workouts in the morning and evening workouts during regular Masters practices. \nSpaces are limited\, and registration is required in advance. Come for 1\, 2 or 3 days or for as many of the workouts available that you can attend. Masters Nationals open warmups begin Thursday\, 8/11 at 1 PM. \nMASTERS CLINIC WORKOUTS:\nMonday           8/8/22     10:00 AM – 12:00 PM\nTuesday          8/9/22     10:00 AM – 12:00 PM\nWednesday     8/10/22   10:00 AM – 12:00 PM \nADDITIONAL TRAINING WORKOUTS:\nDive Lab also offers regular training for Masters Divers weekly. Spaces are limited to 10 to accommodate the other programming happening simultaneously. \nMonday          8/8/22     5:00 PM – 6:30 PM\nTuesday         8/9/22     6:00- 7:30 PM\nWednesday    8/10/22   5:00 PM – 6:30 PM \nPRICING:         $40/workout. \nThis is an ideal opportunity to work with top level coaches prior to competing in the US Masters Diving Summer National Championships or to just refine your skills and learn from the best in a fun\, safe and healthy recreational setting. \nFACILITY:       3  1-meter boards\, 2 3-meter boards\, Platform with levels 1\, 3\, 5\, 7.5 and 10 m\, hydrotherapy hot tub\, dryland boards\, trampolines and belts. \nFor more information about the team\, programming\, and facilities Visit https://www.divelab.org/\nContact Miranda Maas at Info@DiveLab.org with training clinic questions. \nLOCATION:      Miwok Aquatics Center\, College of Marin 1800 Ignacio Boulevard\, Novato CA 94949 \nTO REGISTER & RSVP FOR WORKOUTS:   Complete the form below with your information\, and submit payment to:  DIVE LAB\, and send payment in advance. Include “Dive Lab Masters Clinic” in the memo. Call or email for credit card options:  415-497-8366 or Info@DiveLab.org \nWe look forward to welcoming you! \nTo sign up\, please fill out the following form: \nDIVE LAB’S Masters Diving Training Clinic (google.com)\n\n\n\n
URL:http://mastersdiving.org/event/dive-labs-masters-diving-training-clinic/
END:VEVENT
END:VCALENDAR