BEGIN:VCALENDAR
VERSION:2.0
PRODID:-//U.S. Masters Diving - ECPv4.6.16//NONSGML v1.0//EN
CALSCALE:GREGORIAN
METHOD:PUBLISH
X-WR-CALNAME:U.S. Masters Diving
X-ORIGINAL-URL:http://mastersdiving.org
X-WR-CALDESC:Events for U.S. Masters Diving
BEGIN:VEVENT
DTSTART;VALUE=DATE:20190715
DTEND;VALUE=DATE:20190724
DTSTAMP:20260421T141255
CREATED:20190513T230848Z
LAST-MODIFIED:20190513T230848Z
UID:51135-1563148800-1563926399@mastersdiving.org
SUMMARY:AAU Diving National Championships
DESCRIPTION:
URL:http://mastersdiving.org/event/aau-diving-national-championships/
LOCATION:Riverside\, CA\, United States
END:VEVENT
END:VCALENDAR