BEGIN:VCALENDAR
VERSION:2.0
PRODID:-//U.S. Masters Diving - ECPv4.6.16//NONSGML v1.0//EN
CALSCALE:GREGORIAN
METHOD:PUBLISH
X-WR-CALNAME:U.S. Masters Diving
X-ORIGINAL-URL:http://mastersdiving.org
X-WR-CALDESC:Events for U.S. Masters Diving
BEGIN:VEVENT
DTSTART;TZID=America/New_York:20240719T080000
DTEND;TZID=America/New_York:20240723T170000
DTSTAMP:20260421T125249
CREATED:20230824T204925Z
LAST-MODIFIED:20230824T204925Z
UID:51878-1721376000-1721754000@mastersdiving.org
SUMMARY:2024 PANAM MASTERS CHAMPIONSHIPS
DESCRIPTION:
URL:http://mastersdiving.org/event/2024-panam-masters-championships/
LOCATION:off\, Couva Main Road\, Couva\, Trinidad and Tobago
END:VEVENT
END:VCALENDAR