BEGIN:VCALENDAR
VERSION:2.0
PRODID:-//U.S. Masters Diving - ECPv4.6.16//NONSGML v1.0//EN
CALSCALE:GREGORIAN
METHOD:PUBLISH
X-WR-CALNAME:U.S. Masters Diving
X-ORIGINAL-URL:http://mastersdiving.org
X-WR-CALDESC:Events for U.S. Masters Diving
BEGIN:VEVENT
DTSTART;VALUE=DATE:20230802
DTEND;VALUE=DATE:20230812
DTSTAMP:20260421T113309
CREATED:20190513T235901Z
LAST-MODIFIED:20220607T013840Z
UID:51154-1690934400-1691798399@mastersdiving.org
SUMMARY:19th FINA World Championships
DESCRIPTION:
URL:http://mastersdiving.org/event/2023-fina-world-championships/
LOCATION:Fukuoka\, Japan
END:VEVENT
END:VCALENDAR