BEGIN:VCALENDAR
VERSION:2.0
PRODID:-//U.S. Masters Diving - ECPv4.6.16//NONSGML v1.0//EN
CALSCALE:GREGORIAN
METHOD:PUBLISH
X-WR-CALNAME:U.S. Masters Diving
X-ORIGINAL-URL:http://mastersdiving.org
X-WR-CALDESC:Events for U.S. Masters Diving
BEGIN:VEVENT
DTSTART;VALUE=DATE:20190509
DTEND;VALUE=DATE:20190513
DTSTAMP:20260421T153715
CREATED:20181219T225939Z
LAST-MODIFIED:20190504T151509Z
UID:51044-1557360000-1557705599@mastersdiving.org
SUMMARY:2019 Spring Nationals
DESCRIPTION:CONFIRMED! Spring Nationals will be held at the United States Naval Academy in Annapolis\, Maryland! \nDates May 10th\, 11th and 12th \nPut the dates on your calendar! Celebrate Mother’s Day in Annapolis\, Maryland! \n2019 Navy_Meet_Info_Sheet_2019 \nSpring Masters 2019 – Name Badge \n
URL:http://mastersdiving.org/event/2019-spring-nationals/
LOCATION:52 King George St.\, Annapolis\, MD\, 21402\, United States
END:VEVENT
END:VCALENDAR