BEGIN:VCALENDAR
VERSION:2.0
PRODID:-//U.S. Masters Diving - ECPv4.6.16//NONSGML v1.0//EN
CALSCALE:GREGORIAN
METHOD:PUBLISH
X-WR-CALNAME:U.S. Masters Diving
X-ORIGINAL-URL:http://mastersdiving.org
X-WR-CALDESC:Events for U.S. Masters Diving
BEGIN:VEVENT
DTSTART;VALUE=DATE:20180722
DTEND;VALUE=DATE:20180725
DTSTAMP:20260421T182352
CREATED:20171110T021834Z
LAST-MODIFIED:20171110T021934Z
UID:46350-1532217600-1532476799@mastersdiving.org
SUMMARY:2018 UANA Pan Am Masters Championships
DESCRIPTION:
URL:http://mastersdiving.org/event/2018-uana-pan-am-masters-championships/
LOCATION:8422 International Dr\, Orlando\, FL\, 32819\, United States
END:VEVENT
END:VCALENDAR