BEGIN:VCALENDAR
VERSION:2.0
PRODID:-//U.S. Masters Diving - ECPv4.6.16//NONSGML v1.0//EN
CALSCALE:GREGORIAN
METHOD:PUBLISH
X-WR-CALNAME:U.S. Masters Diving
X-ORIGINAL-URL:http://mastersdiving.org
X-WR-CALDESC:Events for U.S. Masters Diving
BEGIN:VEVENT
DTSTART;VALUE=DATE:20180518
DTEND;VALUE=DATE:20180521
DTSTAMP:20260421T182819
CREATED:20171220T015952Z
LAST-MODIFIED:20180315T154414Z
UID:46384-1526601600-1526860799@mastersdiving.org
SUMMARY:2018 Spring Nationals
DESCRIPTION:Click on find out more for MEET INFORMATION  \n  \n
URL:http://mastersdiving.org/event/2018-spring-nationals/
LOCATION:501 Seabreeze Boulevard\, Fort Lauderdale\, FL\, 33316\, United States
ORGANIZER;CN="Gerry%20Dunn":MAILTO:gerry@mypotomac.com
END:VEVENT
END:VCALENDAR